BEGIN:VCALENDAR
VERSION:2.0
PRODID:-//ChamberMaster//Event Calendar 2.0//EN
METHOD:PUBLISH
X-PUBLISHED-TTL:P3D
REFRESH-INTERVAL:P3D
CALSCALE:GREGORIAN
BEGIN:VEVENT
DTSTART:20260602T170000Z
DTEND:20260602T180000Z
X-MICROSOFT-CDO-ALLDAYEVENT:FALSE
SUMMARY:2026 Corporate Charity Cup: Team Captain Meeting
DESCRIPTION:Calling All Team Captains!\n\n\n\nAt this important meeting you will pick up your team T-shirts and we'll go over the final details for the event.\n\n\n\nPlease register to attend and contact the Chamber with any questions.
X-ALT-DESC;FMTTYPE=text/html:<span style="box-sizing: border-box\; font-weight: bolder\; font-family: arial\; font-size: 16px\;">Calling All Team Captains!</span><br style="box-sizing: border-box\; font-family: arial\; font-size: 16px\;" />\n<br style="box-sizing: border-box\; font-family: arial\; font-size: 16px\;" />\n<span style="font-family: arial\; font-size: 16px\;">At this important meeting you will pick up your team T-shirts and we&#39\;ll go over the final details for the event.</span><br style="box-sizing: border-box\; font-family: arial\; font-size: 16px\;" />\n<br style="box-sizing: border-box\; font-family: arial\; font-size: 16px\;" />\n<span style="font-family: arial\; font-size: 16px\;">Please register to attend and contact the Chamber with any questions.</span>
LOCATION:Dublin Chamber of Commerce 129 S. High St. Dublin\, OH 43017
UID:e.1632.12648
SEQUENCE:3
DTSTAMP:20260423T202508Z
URL:https://dublinchamber.org/events/details/2026-corporate-charity-cup-team-captain-meeting-12648
END:VEVENT

END:VCALENDAR
